BEGIN:VCALENDAR
PRODID:-//kirchenweb.ch gmbh//veranstaltungsausgabe v2.0//DE
VERSION:2.0
METHOD:PUBLISH
BEGIN:VEVENT
DTSTART:20260624T120000Z
DTEND:20260624T150000Z
LOCATION:Theodorskirche\, Theodorskirchplatz 5\, 4058 Basel
TRANSP:OPAQUE
SEQUENCE:0
UID:219081-veranstaltung@erk-bs.ch
DTSTAMP:20251124T113235Z
DESCRIPTION:Basteln\, Strassenspiele\, Zvieri\n\nIn der Kirche und
  draussen auf dem Theodorskirchplatz.\n\nOhne Anmeldung.\n\n\n\n\n
 \nKontakt: Davide Maniscalco\n\nWeitere Infos:
  https://www.erk-bs.ch/veranstaltung/219081
SUMMARY:KinderBistro
PRIORITY:5
X-MICROSOFT-CDO-IMPORTANCE:1
CLASS:PUBLIC
END:VEVENT
END:VCALENDAR
