BEGIN:VCALENDAR
PRODID:-//kirchenweb.ch gmbh//veranstaltungsausgabe v2.0//DE
VERSION:2.0
METHOD:PUBLISH
BEGIN:VEVENT
DTSTART:20261110T183000Z
DTEND:20261110T200000Z
LOCATION:Gemeindehaus Theodor\, Claragraben 43\, 4058 Basel
TRANSP:OPAQUE
SEQUENCE:0
UID:219113-veranstaltung@erk-bs.ch
DTSTAMP:20251124T113534Z
DESCRIPTION:Wir suchen musikbegeisterte Mitglieder für unseren
  Kirchenchor Kleinbasel\n\nAlle Stimmlagen sind herzlich willkommen.
 \nEinfach vorbeikommen und mitmachen. Wir freuen uns auf Sie! \n\nProben
  jeweils dienstags\, 19.30 - 21.00 Uhr\nab 17. Oktober bis im Frühling
  2024 im Gemeindehaus St. Theodor\n(während der warmen Jahreszeit in der
  Matthäuskirche - Seiteneingang)\n\nKontakt:\nBeatrice Voellmy\,
  Chorleiterin: 076 468 19 00\, bvoellmy@yahoo.com \nChristian
  Vontobel:christian_vontobel@bluewin.ch\n\nKontakt:
  esther.mueller-kb@erk-bs.ch\n\nWeitere Infos:
  https://www.erk-bs.ch/veranstaltung/219113
SUMMARY:Kirchenchor Kirchgemeinde Kleinbasel / Proben
PRIORITY:5
X-MICROSOFT-CDO-IMPORTANCE:1
CLASS:PUBLIC
END:VEVENT
END:VCALENDAR
