BEGIN:VCALENDAR
PRODID:-//kirchenweb.ch gmbh//veranstaltungsausgabe v2.0//DE
VERSION:2.0
METHOD:PUBLISH
BEGIN:VEVENT
DTSTART:20260908T173000Z
DTEND:20260908T190000Z
LOCATION:Matthäuskirche\, Feldbergstrasse 81\, 4057 Basel
TRANSP:OPAQUE
SEQUENCE:0
UID:219134-veranstaltung@erk-bs.ch
DTSTAMP:20251124T113816Z
DESCRIPTION:Wir suchen musikbegeisterte Mitglieder für unseren
  Kirchenchor Kleinbasel\n\nAlle Stimmlagen sind herzlich willkommen.
 \nEinfach vorbeikommen und mitmachen. Wir freuen uns auf Sie! \n\nProben
  jeweils dienstags\, 19.30 - 21.00 Uhr\nin der Matthäuskirche -
  Seiteneingang\n(während den Wintermonaten im Gemeindehaus Theodor\,
  Claragraben 43)\n\nKontakt:\nBeatrice Voellmy\, Chorleiterin: 076 468 19
  00\, bvoellmy@yahoo.com \nChristian
  Vontobel:christian_vontobel@bluewin.ch\n\n\n\n\n\n\nKontakt:
  esther.mueller-kb@erk-bs.ch\n\nWeitere Infos:
  https://www.erk-bs.ch/veranstaltung/219134
SUMMARY:Kirchenchor Kirchgemeinde Kleinbasel / Proben
PRIORITY:5
X-MICROSOFT-CDO-IMPORTANCE:1
CLASS:PUBLIC
END:VEVENT
END:VCALENDAR
