BEGIN:VCALENDAR
PRODID:-//kirchenweb.ch gmbh//veranstaltungsausgabe v2.0//DE
VERSION:2.0
METHOD:PUBLISH
BEGIN:VEVENT
DTSTART:20261110T111500Z
DTEND:20261110T121500Z
LOCATION:Theodorskirche Sakristei\, Theodorskirchplatz 5\, 4058 Basel
TRANSP:OPAQUE
SEQUENCE:0
UID:219168-veranstaltung@erk-bs.ch
DTSTAMP:20251124T114114Z
DESCRIPTION:Nach der Methode des Bibelteilens nähern wir uns dem
  Predigttext für den jeweils kommenden Sonntag: was löst er in uns aus?
  Wir laden ein zu Austausch und Lese.\n\nJeden Dienstag (ausser
  Schulferien)\, 12.15 - 13.15 Uhr\, in der Sakristei der Theodorskirche. 
 \nDas Zmittag darf mitgebracht und gegessen werden. \n\nMit Pfarrperson
  entsprechend Gottesdienstplan.\n\nKontakt: eveline.michel@erk-bs.ch\n
 \nWeitere Infos: https://www.erk-bs.ch/veranstaltung/219168
SUMMARY:LeseErnte
PRIORITY:5
X-MICROSOFT-CDO-IMPORTANCE:1
CLASS:PUBLIC
END:VEVENT
END:VCALENDAR
