BEGIN:VCALENDAR
PRODID:-//kirchenweb.ch gmbh//veranstaltungsausgabe v2.0//DE
VERSION:2.0
METHOD:PUBLISH
BEGIN:VEVENT
DTSTART:20260512T160000Z
DTEND:20260512T163000Z
LOCATION:Matthäuskirche\, Feldbergstrasse 81\, 4057 Basel
TRANSP:OPAQUE
SEQUENCE:0
UID:219221-veranstaltung@erk-bs.ch
DTSTAMP:20251124T114701Z
DESCRIPTION:Gesang\, Gebet\, Stille\n\n"Barmherziger Gott\, lass uns Wege
  finden\, dich im Gebet zu erwarten und deinen Blick zu empfangen\, der
  voll Liebe auf dem Leben eines jeden ruht." \n(Frère Roger\, Gründer
  der Communauté de Taizé)\n\nDie mehrsprachigen Gebete der Communauté
  de Taizé\, einer ökumenischen Bruderschaft im Burgund (F)\, berühren
  das Herz. Sie sind innig und schlicht\, leben von der meditativen
  Wiederholung einfacher mehrstimmiger Lieder\, vom Reichtum biblischer
  Texte und der Stille. Sie laden zur Einkehr und Andacht ein\, ohne
  aufdringlich zu sein\, und setzen dem hektischen Stadtleben ein
  Pausenzeichen entgegen.\n\nHerzliche Einladung!\n\n\n\n\n\nKontakt:
  Franziska Kuhn-Häderli\n\nWeitere Infos:
  https://www.erk-bs.ch/veranstaltung/219221
SUMMARY:Taizé-Gebet
PRIORITY:5
X-MICROSOFT-CDO-IMPORTANCE:1
CLASS:PUBLIC
END:VEVENT
END:VCALENDAR
