BEGIN:VCALENDAR
PRODID:-//kirchenweb.ch gmbh//veranstaltungsausgabe v2.0//DE
VERSION:2.0
METHOD:PUBLISH
BEGIN:VEVENT
DTSTART:20260602T080000Z
DTEND:20260602T090000Z
LOCATION:Eulerstube\, \,
TRANSP:OPAQUE
SEQUENCE:0
UID:219331-veranstaltung@erk-bs.ch
DTSTAMP:20251218T165122Z
DESCRIPTION:Pfarrer Dan Holder\n\nKontakt: dan.holder@erk-bs.ch\n\nWeitere
  Infos: https://www.erk-bs.ch/veranstaltung/219331
SUMMARY:Bibelcafé Dienstag
PRIORITY:5
X-MICROSOFT-CDO-IMPORTANCE:1
CLASS:PUBLIC
END:VEVENT
END:VCALENDAR
