BEGIN:VCALENDAR
PRODID:-//kirchenweb.ch gmbh//veranstaltungsausgabe v2.0//DE
VERSION:2.0
METHOD:PUBLISH
BEGIN:VEVENT
DTSTART:20260519T100000Z
DTEND:20260519T102000Z
LOCATION:Pfarrkapelle\, Kirchstrasse 7\, \, 4125 Riehen
TRANSP:OPAQUE
SEQUENCE:0
UID:219350-veranstaltung@erk-bs.ch
DTSTAMP:20251125T104800Z
DESCRIPTION:Eine kurze Zeit des gemeinsamen Gebets für den Frieden in
  Israel und in der Welt\n\nKontakt: Pfarrer Dan Holder\n\nWeitere Infos:
  https://www.erk-bs.ch/veranstaltung/219350
SUMMARY:Friedensgebet
PRIORITY:5
X-MICROSOFT-CDO-IMPORTANCE:1
CLASS:PUBLIC
END:VEVENT
END:VCALENDAR
