BEGIN:VCALENDAR
PRODID:-//kirchenweb.ch gmbh//veranstaltungsausgabe v2.0//DE
VERSION:2.0
METHOD:PUBLISH
BEGIN:VEVENT
DTSTART:20260416T080000Z
DTEND:20260416T090000Z
LOCATION:Meierhof\, Kirchplatz 7\, 4125 Riehen
TRANSP:OPAQUE
SEQUENCE:0
UID:219397-veranstaltung@erk-bs.ch
DTSTAMP:20251218T165121Z
DESCRIPTION:Bibelcafé Donnerstag \njeweils Donnerstag von 10.00 -11.00
  Uhr in der Eulerstube im Meierhof\n\nWir laden Sie ganz herzlich zu
  Kaffee und Bibellesen ein - eine Anmeldung ist nicht erforderlich. \n\n\n
 \n\nKontakt: Pfarrerin Martina Holder\n\nWeitere Infos:
  https://www.erk-bs.ch/veranstaltung/219397
SUMMARY:Bibelcafé Donnerstag
PRIORITY:5
X-MICROSOFT-CDO-IMPORTANCE:1
CLASS:PUBLIC
END:VEVENT
END:VCALENDAR
