BEGIN:VCALENDAR
PRODID:-//kirchenweb.ch gmbh//veranstaltungsausgabe v2.0//DE
VERSION:2.0
METHOD:PUBLISH
BEGIN:VEVENT
DTSTART:20270314T090000Z
DTEND:20270314T100000Z
LOCATION:Theodorskirche\, Theodorskirchplatz 5\, 4058 Basel
TRANSP:OPAQUE
SEQUENCE:0
UID:219405-veranstaltung@erk-bs.ch
DTSTAMP:20260113T075308Z
DESCRIPTION:Kontakt: esther.mueller-kb@erk-bs.ch\n\nWeitere Infos:
  https://www.erk-bs.ch/veranstaltung/219405
SUMMARY:Gottesdienst mit Teilete
PRIORITY:5
X-MICROSOFT-CDO-IMPORTANCE:1
CLASS:PUBLIC
END:VEVENT
END:VCALENDAR
