BEGIN:VCALENDAR
PRODID:-//kirchenweb.ch gmbh//veranstaltungsausgabe v2.0//DE
VERSION:2.0
METHOD:PUBLISH
BEGIN:VEVENT
DTSTART:20261022T123000Z
DTEND:20261022T150000Z
LOCATION:Gemeindehaus Stephanus\, Furkastrasse 12\, 4054 Basel
TRANSP:OPAQUE
SEQUENCE:0
UID:219415-veranstaltung@erk-bs.ch
DTSTAMP:20251205T122213Z
DESCRIPTION:Rummikub ist ein klassisches Zahlenspiel\, das zu zweit\, zu
  dritt oder zu viert gespielt wird. Das Spiel hat sehr einfache Regeln und
  ist leicht zu erlernen. Es erfordert einerseits etwas Geschick und
  taktisches Denken\, um Zahlenreihen und Zahlengruppen miteinander zu
  kombinieren\, zu trennen und so neue Zahlenformationen zu bilden.
  Andererseits braucht es auch etwas Glück\, um die richtigen Zahlen und
  vielleicht einen der Joker zu ziehen.\nNach den Spielrunden lassen wir
  den Nachmittag bei einem gemütlichen Zvieri ausklingen.\n\nKontakt:
  Claudia Schulthess\n\nWeitere Infos:
  https://www.erk-bs.ch/veranstaltung/219415
SUMMARY:Rummikub-Club
PRIORITY:5
X-MICROSOFT-CDO-IMPORTANCE:1
CLASS:PUBLIC
END:VEVENT
END:VCALENDAR
