BEGIN:VCALENDAR
PRODID:-//kirchenweb.ch gmbh//veranstaltungsausgabe v2.0//DE
VERSION:2.0
METHOD:PUBLISH
BEGIN:VEVENT
DTSTART:20260609T104500Z
DTEND:20260609T114500Z
LOCATION:Treffpunkt Allmendhaus\, Allmendstrasse 36\, 4058 Basel
TRANSP:OPAQUE
SEQUENCE:0
UID:219423-veranstaltung@erk-bs.ch
DTSTAMP:20260116T125158Z
DESCRIPTION:"Fahrt ins Blaue".\nWie jedes Jahr findet im Juni ein Ausflug
  mit unbekanntem Ziel statt. Lassen Sie sich überraschen.\nWir freuen uns
  auf alle Reiselustigen.\n\n\n\n\nKontakt: esther.mueller-kb@erk-bs.ch\n
 \nWeitere Infos: https://www.erk-bs.ch/veranstaltung/219423
SUMMARY:Seniorennachmittag - Ausflug
PRIORITY:5
X-MICROSOFT-CDO-IMPORTANCE:1
CLASS:PUBLIC
END:VEVENT
END:VCALENDAR
