BEGIN:VCALENDAR
PRODID:-//kirchenweb.ch gmbh//veranstaltungsausgabe v2.0//DE
VERSION:2.0
METHOD:PUBLISH
BEGIN:VEVENT
DTSTART:20260616T123000Z
DTEND:20260616T133000Z
LOCATION:Allmendhaus\, Allmendstrasse 36\, 4058 Basel
TRANSP:OPAQUE
SEQUENCE:0
UID:219436-veranstaltung@erk-bs.ch
DTSTAMP:20251125T152222Z
DESCRIPTION:Austausch bei Kaffee und Knabbereien.\n\n\n\nKontakt: Kathrin
  Knoepfli\n\nWeitere Infos: https://www.erk-bs.ch/veranstaltung/219436
SUMMARY:Kaffi-Zytt
PRIORITY:5
X-MICROSOFT-CDO-IMPORTANCE:1
CLASS:PUBLIC
END:VEVENT
END:VCALENDAR
