BEGIN:VCALENDAR
PRODID:-//kirchenweb.ch gmbh//veranstaltungsausgabe v2.0//DE
VERSION:2.0
METHOD:PUBLISH
BEGIN:VEVENT
DTSTART:20260506T170000Z
DTEND:20260506T180000Z
LOCATION:Allmendhaus\, Allmendstrasse 36\, 4058 Basel
TRANSP:OPAQUE
SEQUENCE:0
UID:219441-veranstaltung@erk-bs.ch
DTSTAMP:20260108T141100Z
DESCRIPTION:Film zum Nachdenken\, Lachen\, Ins-Gespräch-Kommen.\n\n
 \nKontakt: Kathrin Knoepfli\n\nWeitere Infos:
  https://www.erk-bs.ch/veranstaltung/219441
SUMMARY:Kino 40+
PRIORITY:5
X-MICROSOFT-CDO-IMPORTANCE:1
CLASS:PUBLIC
END:VEVENT
END:VCALENDAR
