BEGIN:VCALENDAR
PRODID:-//kirchenweb.ch gmbh//veranstaltungsausgabe v2.0//DE
VERSION:2.0
METHOD:PUBLISH
BEGIN:VEVENT
DTSTART:20260901T123000Z
DTEND:20260901T143000Z
LOCATION:Gemeindehaus Stephanus\, Furkastrasse 12\, 4054 Basel
TRANSP:OPAQUE
SEQUENCE:0
UID:219448-veranstaltung@erk-bs.ch
DTSTAMP:20260211T133621Z
DESCRIPTION:Haben Sie Lust\, bei einer Tasse Kaffee oder Tee und etwas
  Gebäck gemütlich zusammenzusitzen und mit anderen Menschen ins
  Gespräch zu kommen? \nDann sind Sie im Kaffi.plus genau richtig! Hier
  ist jede und jeder willkommen – ganz ungezwungen und ohne
  Verpflichtung.\nAls „Plus“ gibt es ab und zu kleine Extras: spannende
  Gäste\, interessante Impulse\, Erzählrunden zu verschiedenen Themen und
  vieles mehr.\nSchauen Sie vorbei – wir freuen uns auf Sie!\n\n
 \nKontakt: Claudia Schulthess\n\nWeitere Infos:
  https://www.erk-bs.ch/veranstaltung/219448
SUMMARY:Kaffi.plus Gemeindehaus Stephanus
PRIORITY:5
X-MICROSOFT-CDO-IMPORTANCE:1
CLASS:PUBLIC
END:VEVENT
END:VCALENDAR
