BEGIN:VCALENDAR
PRODID:-//kirchenweb.ch gmbh//veranstaltungsausgabe v2.0//DE
VERSION:2.0
METHOD:PUBLISH
BEGIN:VEVENT
DTSTART:20260510T150000Z
DTEND:20260510T160000Z
LOCATION:Michaelskirche\, Allmendstrasse 34\, 4058 Basel
TRANSP:OPAQUE
SEQUENCE:0
UID:219456-veranstaltung@erk-bs.ch
DTSTAMP:20251125T152602Z
DESCRIPTION:Kontakt: eveline.michel@erk-bs.ch\n\nWeitere Infos:
  https://www.erk-bs.ch/veranstaltung/219456
SUMMARY:Muttertagskonzert
PRIORITY:5
X-MICROSOFT-CDO-IMPORTANCE:1
CLASS:PUBLIC
END:VEVENT
END:VCALENDAR
