BEGIN:VCALENDAR
PRODID:-//kirchenweb.ch gmbh//veranstaltungsausgabe v2.0//DE
VERSION:2.0
METHOD:PUBLISH
BEGIN:VEVENT
DTSTART:20260619T123000Z
DTEND:20260619T133000Z
LOCATION:Christophorus\, Dorfstrasse 38\, 4057 Basel
TRANSP:OPAQUE
SEQUENCE:0
UID:219464-veranstaltung@erk-bs.ch
DTSTAMP:20251125T153746Z
DESCRIPTION:Kontakt: Franziska Kuhn-Häderli\n\nWeitere Infos:
  https://www.erk-bs.ch/veranstaltung/219464
SUMMARY:Gottesdienst
PRIORITY:5
X-MICROSOFT-CDO-IMPORTANCE:1
CLASS:PUBLIC
END:VEVENT
END:VCALENDAR
