BEGIN:VCALENDAR
PRODID:-//kirchenweb.ch gmbh//veranstaltungsausgabe v2.0//DE
VERSION:2.0
METHOD:PUBLISH
BEGIN:VEVENT
DTSTART:20260121T133000Z
DTEND:20260121T150000Z
LOCATION:Meierhof\, Kirchplatz 7\, 4125 Riehen
TRANSP:OPAQUE
SEQUENCE:0
UID:219485-veranstaltung@erk-bs.ch
DTSTAMP:20251202T081211Z
DESCRIPTION:Kontakt: Kristina Molnar\n\nWeitere Infos:
  https://www.erk-bs.ch/veranstaltung/219485
SUMMARY:Ökumenischer Seniorennachmittag
PRIORITY:5
X-MICROSOFT-CDO-IMPORTANCE:1
CLASS:PUBLIC
END:VEVENT
END:VCALENDAR
