BEGIN:VCALENDAR
PRODID:-//kirchenweb.ch gmbh//veranstaltungsausgabe v2.0//DE
VERSION:2.0
METHOD:PUBLISH
BEGIN:VEVENT
DTSTART:20260513T070000Z
DTEND:20260513T170000Z
LOCATION:Dorfkirche\, Kirchplatz\, 4125 Riehen
TRANSP:OPAQUE
SEQUENCE:0
UID:219486-veranstaltung@erk-bs.ch
DTSTAMP:20260326T151610Z
DESCRIPTION:Herzliche Einladung zu unserem gemeinsamen Tagesausflug nach
  Seelisberg und Vierwaldstättersee.\n\nUnsere Route führt uns durch das
  blühende Seetal über Eschenbach-Luzern nach Seelisberg.\n\nMittagessen
  auf der Panoramaterrasse des Restaurants Bellevue mit herrlichem Blick
  auf See und Berge.\nWeiterfahrt nach Flüelen-Brunnen. Spaziergang am
  See. Zeit für einen Jass im Sonnenschein.\n\nSchifffahrt nach
  Beckenried.\n\nIm Preis von Fr. 98.- inbegriffen ist die Fahrt im
  Komfortbus\, das Mittagessen (ohne Getränke)\, sowie die Schifffahrt.\n
 \nWir freuen uns über Ihre Teilnahme an diesem schönen Ausflug.\n
 \nKontakt: Kristina Molnar\n\nWeitere Infos:
  https://www.erk-bs.ch/veranstaltung/219486
SUMMARY:Senioren Tagesausflug Seelisberg und Vierwaldtstättersee
PRIORITY:5
X-MICROSOFT-CDO-IMPORTANCE:1
CLASS:PUBLIC
END:VEVENT
END:VCALENDAR
