BEGIN:VCALENDAR
PRODID:-//kirchenweb.ch gmbh//veranstaltungsausgabe v2.0//DE
VERSION:2.0
METHOD:PUBLISH
BEGIN:VEVENT
DTSTART:20260925T083000Z
DTEND:20260925T093000Z
LOCATION:Alterszentrum Burgfelderhof\, Im Burgfelderhof 30\, 4055 Basel
TRANSP:OPAQUE
SEQUENCE:0
UID:219552-veranstaltung@erk-bs.ch
DTSTAMP:20251126T173929Z
DESCRIPTION:Kontakt: Elias Jenni\n\nWeitere Infos:
  https://www.erk-bs.ch/veranstaltung/219552
SUMMARY:Alterszentrum Burgfelderhof: Gottesdienst
PRIORITY:5
X-MICROSOFT-CDO-IMPORTANCE:1
CLASS:PUBLIC
END:VEVENT
END:VCALENDAR
