BEGIN:VCALENDAR
PRODID:-//kirchenweb.ch gmbh//veranstaltungsausgabe v2.0//DE
VERSION:2.0
METHOD:PUBLISH
BEGIN:VEVENT
DTSTART:20261217T093000Z
DTEND:20261217T103000Z
LOCATION:Alterszentrum Burgfelderhof\, Im Burgfelderhof 30\, 4055 Basel
TRANSP:OPAQUE
SEQUENCE:0
UID:219555-veranstaltung@erk-bs.ch
DTSTAMP:20251126T174039Z
DESCRIPTION:Kontakt: Elias Jenni\n\nWeitere Infos:
  https://www.erk-bs.ch/veranstaltung/219555
SUMMARY:Alterszentrum Burgfelderhof: Weihnachtsfeiern (auf den
  Stockwerken)
PRIORITY:5
X-MICROSOFT-CDO-IMPORTANCE:1
CLASS:PUBLIC
END:VEVENT
END:VCALENDAR
