BEGIN:VCALENDAR
PRODID:-//kirchenweb.ch gmbh//veranstaltungsausgabe v2.0//DE
VERSION:2.0
METHOD:PUBLISH
BEGIN:VEVENT
DTSTART:20260728T130000Z
DTEND:20260728T140000Z
LOCATION:Pflegehotel St. Johann\, St. Johanns-Ring 122\, 4056 Basel
TRANSP:OPAQUE
SEQUENCE:0
UID:219562-veranstaltung@erk-bs.ch
DTSTAMP:20251126T174412Z
DESCRIPTION:Kontakt: Elias Jenni\n\nWeitere Infos:
  https://www.erk-bs.ch/veranstaltung/219562
SUMMARY:Pflegehotel St. Johann: Gottesdienst
PRIORITY:5
X-MICROSOFT-CDO-IMPORTANCE:1
CLASS:PUBLIC
END:VEVENT
END:VCALENDAR
