BEGIN:VCALENDAR
PRODID:-//kirchenweb.ch gmbh//veranstaltungsausgabe v2.0//DE
VERSION:2.0
METHOD:PUBLISH
BEGIN:VEVENT
DTSTART:20261222T140000Z
DTEND:20261222T150000Z
LOCATION:Pflegehotel St. Johann\, St. Johanns-Ring 122\, 4056 Basel
TRANSP:OPAQUE
SEQUENCE:0
UID:219568-veranstaltung@erk-bs.ch
DTSTAMP:20251126T174413Z
DESCRIPTION:Kontakt: Elias Jenni\n\nWeitere Infos:
  https://www.erk-bs.ch/veranstaltung/219568
SUMMARY:Pflegehotel St. Johann: Gottesdienst
PRIORITY:5
X-MICROSOFT-CDO-IMPORTANCE:1
CLASS:PUBLIC
END:VEVENT
END:VCALENDAR
