BEGIN:VCALENDAR
PRODID:-//kirchenweb.ch gmbh//veranstaltungsausgabe v2.0//DE
VERSION:2.0
METHOD:PUBLISH
BEGIN:VEVENT
DTSTART:20261106T140000Z
DTEND:20261106T150000Z
LOCATION:APH CasaVita Vincentianum\, Nonnenweg 3\, 4055 Basel
TRANSP:OPAQUE
SEQUENCE:0
UID:219591-veranstaltung@erk-bs.ch
DTSTAMP:20251126T175229Z
DESCRIPTION:Kontakt: Elias Jenni\n\nWeitere Infos:
  https://www.erk-bs.ch/veranstaltung/219591
SUMMARY:APH CasaVita Vincentianum: ökumenische Gedenkfeier
PRIORITY:5
X-MICROSOFT-CDO-IMPORTANCE:1
CLASS:PUBLIC
END:VEVENT
END:VCALENDAR
