BEGIN:VCALENDAR
PRODID:-//kirchenweb.ch gmbh//veranstaltungsausgabe v2.0//DE
VERSION:2.0
METHOD:PUBLISH
BEGIN:VEVENT
DTSTART:20260515T083000Z
DTEND:20260515T093000Z
LOCATION:APH Holbeinhof\, Leimenstrasse 67\, 4051 Basel
TRANSP:OPAQUE
SEQUENCE:0
UID:219597-veranstaltung@erk-bs.ch
DTSTAMP:20251126T175459Z
DESCRIPTION:Kontakt: Elias Jenni\n\nWeitere Infos:
  https://www.erk-bs.ch/veranstaltung/219597
SUMMARY:APH Holbeinhof: Gottesdienst
PRIORITY:5
X-MICROSOFT-CDO-IMPORTANCE:1
CLASS:PUBLIC
END:VEVENT
END:VCALENDAR
