BEGIN:VCALENDAR
PRODID:-//kirchenweb.ch gmbh//veranstaltungsausgabe v2.0//DE
VERSION:2.0
METHOD:PUBLISH
BEGIN:VEVENT
DTSTART:20260507T130000Z
DTEND:20260507T140000Z
LOCATION:APH Johanniter\, Mülhauserstrasse 35\, 4056 Basel
TRANSP:OPAQUE
SEQUENCE:0
UID:219607-veranstaltung@erk-bs.ch
DTSTAMP:20251126T175833Z
DESCRIPTION:Kontakt: Elias Jenni\n\nWeitere Infos:
  https://www.erk-bs.ch/veranstaltung/219607
SUMMARY:APH Johanniter: Gottesdienst
PRIORITY:5
X-MICROSOFT-CDO-IMPORTANCE:1
CLASS:PUBLIC
END:VEVENT
END:VCALENDAR
