BEGIN:VCALENDAR
PRODID:-//kirchenweb.ch gmbh//veranstaltungsausgabe v2.0//DE
VERSION:2.0
METHOD:PUBLISH
BEGIN:VEVENT
DTSTART:20261022T130000Z
DTEND:20261022T140000Z
LOCATION:APH Johanniter\, Mülhauserstrasse 35\, 4056 Basel
TRANSP:OPAQUE
SEQUENCE:0
UID:219613-veranstaltung@erk-bs.ch
DTSTAMP:20251126T180009Z
DESCRIPTION:Kontakt: Elias Jenni\n\nWeitere Infos:
  https://www.erk-bs.ch/veranstaltung/219613
SUMMARY:APH Johanniter: Gottesdienst mit Abendmahl
PRIORITY:5
X-MICROSOFT-CDO-IMPORTANCE:1
CLASS:PUBLIC
END:VEVENT
END:VCALENDAR
