BEGIN:VCALENDAR
PRODID:-//kirchenweb.ch gmbh//veranstaltungsausgabe v2.0//DE
VERSION:2.0
METHOD:PUBLISH
BEGIN:VEVENT
DTSTART:20261203T140000Z
DTEND:20261203T150000Z
LOCATION:APH Johanniter\, Mülhauserstrasse 35\, 4056 Basel
TRANSP:OPAQUE
SEQUENCE:0
UID:219615-veranstaltung@erk-bs.ch
DTSTAMP:20251126T180010Z
DESCRIPTION:Kontakt: Elias Jenni\n\nWeitere Infos:
  https://www.erk-bs.ch/veranstaltung/219615
SUMMARY:APH Johanniter: Gottesdienst mit Abendmahl
PRIORITY:5
X-MICROSOFT-CDO-IMPORTANCE:1
CLASS:PUBLIC
END:VEVENT
END:VCALENDAR
