BEGIN:VCALENDAR
PRODID:-//kirchenweb.ch gmbh//veranstaltungsausgabe v2.0//DE
VERSION:2.0
METHOD:PUBLISH
BEGIN:VEVENT
DTSTART:20260429T130000Z
DTEND:20260429T140000Z
LOCATION:Neues Marthastift\, Friedrich Miescher-Strasse 1\, 4056 Basel
TRANSP:OPAQUE
SEQUENCE:0
UID:219618-veranstaltung@erk-bs.ch
DTSTAMP:20251126T180412Z
DESCRIPTION:Kontakt: Elias Jenni\n\nWeitere Infos:
  https://www.erk-bs.ch/veranstaltung/219618
SUMMARY:Neues Martha Stift: Gottesdienst
PRIORITY:5
X-MICROSOFT-CDO-IMPORTANCE:1
CLASS:PUBLIC
END:VEVENT
END:VCALENDAR
