BEGIN:VCALENDAR
PRODID:-//kirchenweb.ch gmbh//veranstaltungsausgabe v2.0//DE
VERSION:2.0
METHOD:PUBLISH
BEGIN:VEVENT
DTSTART:20261013T130000Z
DTEND:20261013T140000Z
LOCATION:Sternenhof\, Vogesenstrasse 111\, 4056 Basel
TRANSP:OPAQUE
SEQUENCE:0
UID:219627-veranstaltung@erk-bs.ch
DTSTAMP:20251126T180634Z
DESCRIPTION:Kontakt: Elias Jenni\n\nWeitere Infos:
  https://www.erk-bs.ch/veranstaltung/219627
SUMMARY:Sternenhof: Gottesdienst
PRIORITY:5
X-MICROSOFT-CDO-IMPORTANCE:1
CLASS:PUBLIC
END:VEVENT
END:VCALENDAR
