BEGIN:VCALENDAR
PRODID:-//kirchenweb.ch gmbh//veranstaltungsausgabe v2.0//DE
VERSION:2.0
METHOD:PUBLISH
BEGIN:VEVENT
DTSTART:20260524T173000Z
DTEND:20260524T183000Z
LOCATION:Niklauskapelle\, Kreuzgang\, Münsterplatz 9\, 4051 Basel
TRANSP:OPAQUE
SEQUENCE:0
UID:219676-veranstaltung@erk-bs.ch
DTSTAMP:20251127T110725Z
DESCRIPTION:Kontakt: Pfr. Luzius Müller\n\nWeitere Infos:
  https://www.erk-bs.ch/veranstaltung/219676
SUMMARY:Abendgottesdienst am Münster mit Abendmahl
PRIORITY:5
X-MICROSOFT-CDO-IMPORTANCE:1
CLASS:PUBLIC
END:VEVENT
END:VCALENDAR
