BEGIN:VCALENDAR
PRODID:-//kirchenweb.ch gmbh//veranstaltungsausgabe v2.0//DE
VERSION:2.0
METHOD:PUBLISH
BEGIN:VEVENT
DTSTART:20260531T173000Z
DTEND:20260531T183000Z
LOCATION:Niklauskapelle\, Kreuzgang\, Münsterplatz 9\, 4051 Basel
TRANSP:OPAQUE
SEQUENCE:0
UID:219677-veranstaltung@erk-bs.ch
DTSTAMP:20251211T143651Z
DESCRIPTION:Kontakt: Pfrn. Caroline Schröder Field\n\nWeitere Infos:
  https://www.erk-bs.ch/veranstaltung/219677
SUMMARY:Abendgottesdienst am Münster
PRIORITY:5
X-MICROSOFT-CDO-IMPORTANCE:1
CLASS:PUBLIC
END:VEVENT
END:VCALENDAR
