BEGIN:VCALENDAR
PRODID:-//kirchenweb.ch gmbh//veranstaltungsausgabe v2.0//DE
VERSION:2.0
METHOD:PUBLISH
BEGIN:VEVENT
DTSTART:20260607T173000Z
DTEND:20260607T183000Z
LOCATION:Niklauskapelle\, Kreuzgang\, Münsterplatz 9\, 4051 Basel
TRANSP:OPAQUE
SEQUENCE:0
UID:219678-veranstaltung@erk-bs.ch
DTSTAMP:20251127T111237Z
DESCRIPTION:Kontakt: Pfr. Hieronymus Christ\n\nWeitere Infos:
  https://www.erk-bs.ch/veranstaltung/219678
SUMMARY:Abendgottesdienst am Münster
PRIORITY:5
X-MICROSOFT-CDO-IMPORTANCE:1
CLASS:PUBLIC
END:VEVENT
END:VCALENDAR
