BEGIN:VCALENDAR
PRODID:-//kirchenweb.ch gmbh//veranstaltungsausgabe v2.0//DE
VERSION:2.0
METHOD:PUBLISH
BEGIN:VEVENT
DTSTART:20260212T111500Z
DTEND:20260212T130000Z
LOCATION:Kirche Bettingen\, Brohegasse 3\, 4126 Bettingen
TRANSP:OPAQUE
SEQUENCE:0
UID:219688-veranstaltung@erk-bs.ch
DTSTAMP:20251128T075357Z
DESCRIPTION:Wir vom Mittagstisch-Team möchten einen Ort anbieten\, wo
  Junge und Alte\, Familien und Alleinstehende\, sich gemütlichen treffen
  können um ein gemeinsames Mittagessen einzunehmen.\n\nDas Ziel ist\,
  miteinander zu essen\, auszutauschen und den Mittag gemeinsam bei einem
  leckeren Essen zu verbringen.\n\nDer Mittagstisch trifft sich im UG der
  Kirche Bettingen.  Ab 12:15h sind die Türen geöffnet für ein langsames
  Eintrudeln\, um 12:30 wird das Essen mit einem gemeinsamen Start
  begonnen.\n\nEine Anmeldung bis am Montag derselben Woche ist
  verbindlich.\n\nDie Kosten für ein Mittagessen (Salat\, Hauptgang\,
  Dessert) belaufen sich für Erwachsene auf Fr. 10.- und für Kinder auf
  Fr. 6.-. Bitte bringen sie das Bargeld an den Mittagstisch mit\, damit
  sie vor Ort die Kosten begleichen können.\n\nWir freuen uns auf DICH\,
  es sind alle herzlich willkommen.\nAnmeldung und Fragen an:\nHeidi
  Gerber\, hp.gerber@gmx.ch oder 077 401 49 31 \n\n\nKontakt: Heidi Gerber
 \n077 401 49 31 \n\nWeitere Infos:
  https://www.erk-bs.ch/veranstaltung/219688
SUMMARY:Familien-Mittagstisch
PRIORITY:5
X-MICROSOFT-CDO-IMPORTANCE:1
CLASS:PUBLIC
END:VEVENT
END:VCALENDAR
