BEGIN:VCALENDAR
PRODID:-//kirchenweb.ch gmbh//veranstaltungsausgabe v2.0//DE
VERSION:2.0
METHOD:PUBLISH
BEGIN:VEVENT
DTSTART:20260502T120000Z
DTEND:20260502T150000Z
LOCATION:Kirche Bettingen\, Brohegasse 3\, 4126 Bettingen
TRANSP:OPAQUE
SEQUENCE:0
UID:219744-veranstaltung@erk-bs.ch
DTSTAMP:20260321T103733Z
DESCRIPTION:Kontakt: Kaleb Wolf\n\n\nWeitere Infos:
  https://www.erk-bs.ch/veranstaltung/219744
SUMMARY:Jungschar Bettingen-Chrischona
PRIORITY:5
X-MICROSOFT-CDO-IMPORTANCE:1
CLASS:PUBLIC
END:VEVENT
END:VCALENDAR
