BEGIN:VCALENDAR
PRODID:-//kirchenweb.ch gmbh//veranstaltungsausgabe v2.0//DE
VERSION:2.0
METHOD:PUBLISH
BEGIN:VEVENT
DTSTART:20260519T123000Z
DTEND:20260519T153000Z
LOCATION:Kornfeldkirche\, \,
TRANSP:OPAQUE
SEQUENCE:0
UID:219767-veranstaltung@erk-bs.ch
DTSTAMP:20251201T090811Z
DESCRIPTION:Kontakt: maya.frei@erk-bs.ch\n\nWeitere Infos:
  https://www.erk-bs.ch/veranstaltung/219767
SUMMARY:Café Kornfeld geöffnet
PRIORITY:5
X-MICROSOFT-CDO-IMPORTANCE:1
CLASS:PUBLIC
END:VEVENT
END:VCALENDAR
