BEGIN:VCALENDAR
PRODID:-//kirchenweb.ch gmbh//veranstaltungsausgabe v2.0//DE
VERSION:2.0
METHOD:PUBLISH
BEGIN:VEVENT
DTSTART:20260623T123000Z
DTEND:20260623T153000Z
LOCATION:Kornfeldkirche\, \,
TRANSP:OPAQUE
SEQUENCE:0
UID:219772-veranstaltung@erk-bs.ch
DTSTAMP:20251201T090813Z
DESCRIPTION:Kontakt: maya.frei@erk-bs.ch\n\nWeitere Infos:
  https://www.erk-bs.ch/veranstaltung/219772
SUMMARY:Café Kornfeld geöffnet
PRIORITY:5
X-MICROSOFT-CDO-IMPORTANCE:1
CLASS:PUBLIC
END:VEVENT
END:VCALENDAR
