BEGIN:VCALENDAR
PRODID:-//kirchenweb.ch gmbh//veranstaltungsausgabe v2.0//DE
VERSION:2.0
METHOD:PUBLISH
BEGIN:VEVENT
DTSTART:20260309T110000Z
DTEND:20260309T130000Z
LOCATION:Kornfeldkirche\, Kornfeldstr. 51\, 4125 Riehen
TRANSP:OPAQUE
SEQUENCE:0
UID:219780-veranstaltung@erk-bs.ch
DTSTAMP:20251201T091256Z
DESCRIPTION:Kontakt: Maya Frei\n\nWeitere Infos:
  https://www.erk-bs.ch/veranstaltung/219780
SUMMARY:Generationenmittagstisch im Café Kornfeld
PRIORITY:5
X-MICROSOFT-CDO-IMPORTANCE:1
CLASS:PUBLIC
END:VEVENT
END:VCALENDAR
