BEGIN:VCALENDAR
PRODID:-//kirchenweb.ch gmbh//veranstaltungsausgabe v2.0//DE
VERSION:2.0
METHOD:PUBLISH
BEGIN:VEVENT
DTSTART:20260203T140000Z
DTEND:20260203T160000Z
LOCATION:Kornfeldkirche\, Kornfeldstr. 51\, 4125 Riehen
TRANSP:OPAQUE
SEQUENCE:0
UID:219813-veranstaltung@erk-bs.ch
DTSTAMP:20251201T092335Z
DESCRIPTION:Familien sind eingeladen im Café Kornfeld zu verweilen:
  Outdoorspielzeuge\, ein Kinderspielraum\, Bastelecke\, Jugendraum und
  alle zwei Wochen eine Geschichte sind für Euch bereit. Ab und zu bietet
  das Team ein Spezialanlass wie zb ein Tournier\, eine Schatzsuche\, oder
  ein Kreativnachmittag an. Infos bei: Maya Frei: 078 687 42 38\n\nKontakt:
  Maya Frei\n\nWeitere Infos: https://www.erk-bs.ch/veranstaltung/219813
SUMMARY:Spielnachmittag für Familien
PRIORITY:5
X-MICROSOFT-CDO-IMPORTANCE:1
CLASS:PUBLIC
END:VEVENT
END:VCALENDAR
