BEGIN:VCALENDAR
PRODID:-//kirchenweb.ch gmbh//veranstaltungsausgabe v2.0//DE
VERSION:2.0
METHOD:PUBLISH
BEGIN:VEVENT
DTSTART:20260427T170000Z
DTEND:20260427T190000Z
LOCATION:Kornfeldkirche\, Kornfeldstr. 51\, 4125 Riehe\, 4125 Riehen
TRANSP:OPAQUE
SEQUENCE:0
UID:219833-veranstaltung@erk-bs.ch
DTSTAMP:20251201T093111Z
DESCRIPTION:Kontakt: maya.frei@erk-bs.ch\n\nWeitere Infos:
  https://www.erk-bs.ch/veranstaltung/219833
SUMMARY:Teenie-Kleingruppe
PRIORITY:5
X-MICROSOFT-CDO-IMPORTANCE:1
CLASS:PUBLIC
END:VEVENT
END:VCALENDAR
