BEGIN:VCALENDAR
PRODID:-//kirchenweb.ch gmbh//veranstaltungsausgabe v2.0//DE
VERSION:2.0
METHOD:PUBLISH
BEGIN:VEVENT
DTSTART:20260602T153000Z
DTEND:20260602T170000Z
LOCATION:Kornfeldkirche\, \,
TRANSP:OPAQUE
SEQUENCE:0
UID:219853-veranstaltung@erk-bs.ch
DTSTAMP:20260416T160937Z
DESCRIPTION:Bäumlihof Sportmatte\n\nKontakt: Maya Frei\n\nWeitere Infos:
  https://www.erk-bs.ch/veranstaltung/219853
SUMMARY:Hattrick Fussball für 1. bis 3. Klässler
PRIORITY:5
X-MICROSOFT-CDO-IMPORTANCE:1
CLASS:PUBLIC
END:VEVENT
END:VCALENDAR
