BEGIN:VCALENDAR
PRODID:-//kirchenweb.ch gmbh//veranstaltungsausgabe v2.0//DE
VERSION:2.0
METHOD:PUBLISH
BEGIN:VEVENT
DTSTART:20260114T180000Z
DTEND:20260114T193000Z
LOCATION:Kornfeldkirche\, \, 4125 Riehen
TRANSP:OPAQUE
SEQUENCE:0
UID:219858-veranstaltung@erk-bs.ch
DTSTAMP:20251201T093558Z
DESCRIPTION:Hintergärten Schulhaus\n\nKontakt: Maya Frei\n\nWeitere
  Infos: https://www.erk-bs.ch/veranstaltung/219858
SUMMARY:Fussball Hattrick für 6. und 7 Klässler
PRIORITY:5
X-MICROSOFT-CDO-IMPORTANCE:1
CLASS:PUBLIC
END:VEVENT
END:VCALENDAR
