BEGIN:VCALENDAR
PRODID:-//kirchenweb.ch gmbh//veranstaltungsausgabe v2.0//DE
VERSION:2.0
METHOD:PUBLISH
BEGIN:VEVENT
DTSTART:20260520T170000Z
DTEND:20260520T183000Z
LOCATION:Kornfeldkirche\, \, 4125 Riehen
TRANSP:OPAQUE
SEQUENCE:0
UID:219872-veranstaltung@erk-bs.ch
DTSTAMP:20260416T160816Z
DESCRIPTION:Bäumlihof Sportmatte\n\nKontakt: Maya Frei\n\nWeitere Infos:
  https://www.erk-bs.ch/veranstaltung/219872
SUMMARY:Fussball Hattrick für 6. und 7 Klässler
PRIORITY:5
X-MICROSOFT-CDO-IMPORTANCE:1
CLASS:PUBLIC
END:VEVENT
END:VCALENDAR
