BEGIN:VCALENDAR
PRODID:-//kirchenweb.ch gmbh//veranstaltungsausgabe v2.0//DE
VERSION:2.0
METHOD:PUBLISH
BEGIN:VEVENT
DTSTART:20260417T153000Z
DTEND:20260417T170000Z
LOCATION:Kornfeldkirche\, \, 4125 Riehen
TRANSP:OPAQUE
SEQUENCE:0
UID:219888-veranstaltung@erk-bs.ch
DTSTAMP:20260416T160359Z
DESCRIPTION:Erlensträsschen Schulhaus\n\nKontakt: Maya Frei\n\nWeitere
  Infos: https://www.erk-bs.ch/veranstaltung/219888
SUMMARY:Fussball Hattrick für 4.und 5.Klässler
PRIORITY:5
X-MICROSOFT-CDO-IMPORTANCE:1
CLASS:PUBLIC
END:VEVENT
END:VCALENDAR
