BEGIN:VCALENDAR
PRODID:-//kirchenweb.ch gmbh//veranstaltungsausgabe v2.0//DE
VERSION:2.0
METHOD:PUBLISH
BEGIN:VEVENT
DTSTART:20260619T153000Z
DTEND:20260619T170000Z
LOCATION:Kornfeldkirche\, \, 4125 Riehen
TRANSP:OPAQUE
SEQUENCE:0
UID:219895-veranstaltung@erk-bs.ch
DTSTAMP:20260416T161204Z
DESCRIPTION:Bäumlihof Sportmatte\n\nKontakt: Maya Frei\n\nWeitere Infos:
  https://www.erk-bs.ch/veranstaltung/219895
SUMMARY:Fussball Hattrick für 4.und 5.Klässler
PRIORITY:5
X-MICROSOFT-CDO-IMPORTANCE:1
CLASS:PUBLIC
END:VEVENT
END:VCALENDAR
