BEGIN:VCALENDAR
PRODID:-//kirchenweb.ch gmbh//veranstaltungsausgabe v2.0//DE
VERSION:2.0
METHOD:PUBLISH
BEGIN:VEVENT
DTSTART:20260520T100000Z
DTEND:20260520T101500Z
LOCATION:Johanneskirche\, Mülhauserstrasse 145\, 4056 Basel
TRANSP:OPAQUE
SEQUENCE:0
UID:219967-veranstaltung@erk-bs.ch
DTSTAMP:20251202T132740Z
DESCRIPTION:In der Mitte des Tages einen Augenblick innehalten\, zur Ruhe
  kommen und sich auf Gott ausrichten: Herzlich willkommen zum
  Mittagsgebet.\n\nKontakt: Pfarrerin Simone Wolf\n\nWeitere Infos:
  https://www.erk-bs.ch/veranstaltung/219967
SUMMARY:Mittagsgebet
PRIORITY:5
X-MICROSOFT-CDO-IMPORTANCE:1
CLASS:PUBLIC
END:VEVENT
END:VCALENDAR
