BEGIN:VCALENDAR
PRODID:-//kirchenweb.ch gmbh//veranstaltungsausgabe v2.0//DE
VERSION:2.0
METHOD:PUBLISH
BEGIN:VEVENT
DTSTART:20260816T180000Z
DTEND:20260816T190000Z
LOCATION:Johanneskirche\, Mülhauserstrasse 145\, 4056 Basel
TRANSP:OPAQUE
SEQUENCE:0
UID:219979-veranstaltung@erk-bs.ch
DTSTAMP:20251202T140446Z
DESCRIPTION:Kontakt: stephan.lichtenhahn@erk-bs.ch\n\nWeitere Infos:
  https://www.erk-bs.ch/veranstaltung/219979
SUMMARY:Taizégebet Johannes
PRIORITY:5
X-MICROSOFT-CDO-IMPORTANCE:1
CLASS:PUBLIC
END:VEVENT
END:VCALENDAR
