BEGIN:VCALENDAR
PRODID:-//kirchenweb.ch gmbh//veranstaltungsausgabe v2.0//DE
VERSION:2.0
METHOD:PUBLISH
BEGIN:VEVENT
DTSTART:20260512T100000Z
DTEND:20260512T120000Z
LOCATION:Pflegehotel St. Johann\, Restaurant "Oldsmobile"\, St.
  Johannsring 122\, 4056 Basel
TRANSP:OPAQUE
SEQUENCE:0
UID:220002-veranstaltung@erk-bs.ch
DTSTAMP:20260311T144227Z
DESCRIPTION:Kontakt: baselwest.webredaktion@erk-bs.ch\n\nWeitere Infos:
  https://www.erk-bs.ch/veranstaltung/220002
SUMMARY:Heute KEIN gemeinsames Essen im "Oldsmobile" (wegen dem
  Tagesausflug)
PRIORITY:5
X-MICROSOFT-CDO-IMPORTANCE:1
CLASS:PUBLIC
END:VEVENT
END:VCALENDAR
