BEGIN:VCALENDAR
PRODID:-//kirchenweb.ch gmbh//veranstaltungsausgabe v2.0//DE
VERSION:2.0
METHOD:PUBLISH
BEGIN:VEVENT
DTSTART:20260526T100000Z
DTEND:20260526T120000Z
LOCATION:Pflegehotel St. Johann\, Restaurant "Oldsmobile"\, St.
  Johannsring 122\, 4056 Basel
TRANSP:OPAQUE
SEQUENCE:0
UID:220004-veranstaltung@erk-bs.ch
DTSTAMP:20251202T140649Z
DESCRIPTION:Möchten Sie einmal pro Woche in geselliger Runde ein feines
  Mittagessen geniessen? \n\nJeden Dienstag um 12 Uhr haben Sie die
  Möglichkeit dazu. Im Restaurant des Pflegehotels St. Johann\, im
  "Oldsmobile"\, wird für uns eingedeckt und ein köstliches 3-Gang-Menü
  serviert. Sie können zwischen einem Tagesmenü\, einem Vegi-Menü oder
  dem Wochenhit wählen. \n\nKosten\, exkl. Getränke:\nTagesmenü 19.10
  Fr.\nVegi-Menü 18.10 Fr.\nWochenhit 22.80 Fr.\n\nAnmeldung: bis Montag\,
  12 Uhr an Verena Gysin\, Tel. 061 321 97 73 oder verena.gysin@gmx.ch\n
 \nOrt: Pflegehotel St. Johann\, Restaurant "Oldsmobile"\, St. Johannsring
  122 (ca. 50 Meter zu Fuss von der Tramhaltestelle Burgfelderplatz\,
  Tramlinie 1 und 3\, entfernt)\n\nKontakt: Verena Gysin\, Tel. 061 321 97
  73\n\nWeitere Infos: https://www.erk-bs.ch/veranstaltung/220004
SUMMARY:Gemeinsam Essen im "Oldsmobile"
PRIORITY:5
X-MICROSOFT-CDO-IMPORTANCE:1
CLASS:PUBLIC
END:VEVENT
END:VCALENDAR
