BEGIN:VCALENDAR
PRODID:-//kirchenweb.ch gmbh//veranstaltungsausgabe v2.0//DE
VERSION:2.0
METHOD:PUBLISH
BEGIN:VEVENT
DTSTART:20260508T171500Z
DTEND:20260508T190000Z
LOCATION:Gellertkirche\, Emanuel Büchel-Str. 40\, 4052 Basel
TRANSP:OPAQUE
SEQUENCE:0
UID:220104-veranstaltung@erk-bs.ch
DTSTAMP:20260415T094702Z
DESCRIPTION:Unentgeltliche Rechtsauskunft durch Dr. Dieter Schlumpf\,
  Advokat und Notar.\nBitte Hintereingang der Kirche benützen\, Sie werden
  abgeholt.\n\nKontakt: Daniel Dummermuth\n\nWeitere Infos:
  https://www.erk-bs.ch/veranstaltung/220104
SUMMARY:Unentgeltliche Rechtsauskunft
PRIORITY:5
X-MICROSOFT-CDO-IMPORTANCE:1
CLASS:PUBLIC
END:VEVENT
END:VCALENDAR
