BEGIN:VCALENDAR
PRODID:-//kirchenweb.ch gmbh//veranstaltungsausgabe v2.0//DE
VERSION:2.0
METHOD:PUBLISH
BEGIN:VEVENT
DTSTART:20260430T130000Z
DTEND:20260430T140000Z
LOCATION:Pflegezentrum Dandelion\, Sperrstrasse 100\, 4057 Basel
TRANSP:OPAQUE
SEQUENCE:0
UID:220127-veranstaltung@erk-bs.ch
DTSTAMP:20251204T090352Z
DESCRIPTION:Kontakt: Katharina Autenrieth-Fischlewitz\n\nWeitere Infos:
  https://www.erk-bs.ch/veranstaltung/220127
SUMMARY:Gottesdienst
PRIORITY:5
X-MICROSOFT-CDO-IMPORTANCE:1
CLASS:PUBLIC
END:VEVENT
END:VCALENDAR
